BEGIN:VCALENDAR
VERSION:2.0
PRODID:gruene-neunkirchen-siegerland.de
METHOD:PUBLISH
BEGIN:VTIMEZONE
TZID:Europe/Berlin
X-LIC-LOCATION:Europe/Berlin
BEGIN:DAYLIGHT
TZOFFSETFROM:+0100
TZOFFSETTO:+0200
TZNAME:CEST
DTSTART:19700329T020000
RRULE:FREQ=YEARLY;INTERVAL=1;BYDAY=-1SU;BYMONTH=3
END:DAYLIGHT
BEGIN:STANDARD
TZOFFSETFROM:+0200
TZOFFSETTO:+0100
TZNAME:CET
DTSTART:19701025T030000
RRULE:FREQ=YEARLY;INTERVAL=1;BYDAY=-1SU;BYMONTH=10
END:STANDARD
END:VTIMEZONE
BEGIN:VEVENT
UID:745f0bea759ed438672cee01ad365758@gruene-neunkirchen-siegerland.de
URL;VALUE=URI:https://gruene-neunkirchen-siegerland.de/termine/kommunalwa
 hl-2025/
LOCATION:
SUMMARY:Kommunalwahl 2025
DESCRIPTION;ALTREP="data:text/html,":
CLASS:PUBLIC
DTSTART;TZID=Europe/Berlin:20250914T080000
DTEND;TZID=Europe/Berlin:20250914T180000
DTSTAMP:20260420T093932
END:VEVENT
END:VCALENDAR